BEGIN:VCALENDAR
VERSION:2.0
PRODID:-//pretix//FeM_Ticketshop//
BEGIN:VEVENT
UID:pretix-refmuk-philharmonie-0@tickets.fem.tu-ilmenau.de
DTSTART:20260620T150000Z
DTEND:20260620T163000Z
DESCRIPTION:Tickets: https://tickets.fem.tu-ilmenau.de/refmuk/philharmonie/
 \nVeranstalter: Referat Marketing und Kommunikation
DTSTAMP:20260420T043248Z
LOCATION:Audimax\, Humboldtbau\, Gustav-Kirchhoff-Platz 1\, 98693 Ilmenau
SUMMARY:Konzert  der Thüringen Philharmonie              | Modern Times: M
 usik trifft Wissenschaft
END:VEVENT
END:VCALENDAR
