BEGIN:VCALENDAR
VERSION:2.0
PRODID:-//pretix//FeM_Ticketshop//
BEGIN:VEVENT
UID:pretix-erstiwoche-wsd2025-1638@tickets.fem.tu-ilmenau.de
DTSTART:20251010T144500Z
DTEND:20251010T180000Z
DESCRIPTION:Tickets: https://tickets.fem.tu-ilmenau.de/erstiwoche/wsd2025/1
 638/\nOrganizer: Erstiwoche
DTSTAMP:20260420T194906Z
LOCATION:Meetingpoint: Humboldtbau
SUMMARY:EWO Workshopday 2025
END:VEVENT
END:VCALENDAR
